BEGIN:VCALENDAR
VERSION:2.0
PRODID:-//Squarespace Inc/Squarespace 6//v6//EN
BEGIN:VEVENT
UID:5da6078a2d60a8227ce39b33@squarespace.com
DTSTAMP:20191015T182646Z
DTSTART:20191209T130000Z
DTEND:20191211T220000Z
SUMMARY:Finals
END:VEVENT
END:VCALENDAR
