BEGIN:VCALENDAR
VERSION:2.0
PRODID:-//Squarespace Inc/Squarespace 6//v6//EN
BEGIN:VEVENT
UID:5cb77d57652dea6d3b0e6b9d@squarespace.com
DTSTAMP:20190910T193451Z
DTSTART:20190920T123000Z
DTEND:20190920T133000Z
SUMMARY:PRAYER BREAKFAST 
END:VEVENT
END:VCALENDAR
