BEGIN:VCALENDAR
VERSION:2.0
PRODID:-//Squarespace Inc/Squarespace 6//v6//EN
BEGIN:VEVENT
UID:5d656402550a96000187dd16@squarespace.com
DTSTAMP:20190827T184121Z
DTSTART:20190829T230000Z
DTEND:20190830T010000Z
SUMMARY:Social Club EXPO
GEO:39.307138;-81.539951
LOCATION:Ohio Valley University\, 1 Campus View Drive\, Vienna\, WV
END:VEVENT
END:VCALENDAR
