BEGIN:VCALENDAR
VERSION:2.0
PRODID:-//Squarespace Inc/Squarespace 6//v6//EN
BEGIN:VEVENT
UID:5d77fcef2c655c4edc02b288@squarespace.com
DTSTAMP:20190910T194727Z
DTSTART:20190916T150000Z
DTEND:20190916T153000Z
SUMMARY:Parade of Flags
GEO:39.307138;-81.539951
LOCATION:Ohio Valley University\, 1 Campus View Drive\, Vienna\, WV
END:VEVENT
END:VCALENDAR
