BEGIN:VCALENDAR
VERSION:2.0
PRODID:-//Squarespace Inc/Squarespace 6//v6//EN
BEGIN:VEVENT
UID:5d712a1a25fbc6000195d312@squarespace.com
DTSTAMP:20190910T193402Z
DTSTART:20190912T150000Z
DTEND:20190912T160000Z
SUMMARY:Sign Up for Social Clubs
END:VEVENT
END:VCALENDAR
