BEGIN:VCALENDAR
VERSION:2.0
PRODID:-//Squarespace Inc/Squarespace 6//v6//EN
BEGIN:VEVENT
UID:5d712a75e4e2310001897b77@squarespace.com
DTSTAMP:20190910T194021Z
DTSTART:20190913T230000Z
DTEND:20190914T010000Z
SUMMARY:Social Club Initiations
END:VEVENT
END:VCALENDAR
