BEGIN:VCALENDAR
VERSION:2.0
PRODID:-//Squarespace Inc/Squarespace 6//v6//EN
BEGIN:VEVENT
UID:5d6566e918a0f700012650f5@squarespace.com
DTSTAMP:20191005T174255Z
DTSTART:20190920T180000Z
DTEND:20190920T200000Z
SUMMARY:Presidential Inauguration
GEO:39.307138;-81.539951
LOCATION:Ohio Valley University\, 1 Campus View Drive\, Vienna\, WV
END:VEVENT
END:VCALENDAR
