BEGIN:VCALENDAR
VERSION:2.0
PRODID:-//Squarespace Inc/Squarespace 6//v6//EN
BEGIN:VEVENT
UID:5d6ea091a6a6990001efb216@squarespace.com
DTSTAMP:20190903T172939Z
DTSTART:20190919T220000Z
DTEND:20190920T000000Z
SUMMARY:Pig Roast
GEO:39.307138;-81.539951
LOCATION:Ohio Valley University\, 1 Campus View Drive\, Vienna\, WV
END:VEVENT
END:VCALENDAR
