BEGIN:VCALENDAR
VERSION:2.0
PRODID:-//Squarespace Inc/Squarespace 6//v6//EN
BEGIN:VEVENT
UID:5d6e9f9cddf8b9000166d0e1@squarespace.com
DTSTAMP:20190903T172556Z
DTSTART:20190903T150000Z
DTEND:20190904T010000Z
SUMMARY:Social Club Week Begins
GEO:39.307138;-81.539951
LOCATION:Ohio Valley University\, 1 Campus View Drive\, Vienna\, WV
END:VEVENT
END:VCALENDAR
