BEGIN:VCALENDAR
VERSION:2.0
PRODID:-//Squarespace Inc/Squarespace 6//v6//EN
BEGIN:VEVENT
UID:5e13554241b3791f7bb976ba@squarespace.com
DTSTAMP:20200106T154302Z
DTSTART:20200110T133000Z
DTEND:20200110T170000Z
SUMMARY:Spring Registration
END:VEVENT
END:VCALENDAR
