BEGIN:VCALENDAR
VERSION:2.0
PRODID:-//Squarespace Inc/Squarespace 6//v6//EN
BEGIN:VEVENT
UID:5da60cc89fcdbc3f4d06cf8f@squarespace.com
DTSTAMP:20191015T182722Z
DTSTART:20200111T221500Z
DTEND:20200111T231500Z
SUMMARY:Men's Basketball Game (AWAY)
END:VEVENT
END:VCALENDAR
