BEGIN:VCALENDAR
VERSION:2.0
PRODID:-//Squarespace Inc/Squarespace 6//v6//EN
BEGIN:VEVENT
UID:5da626216231022a346df88c@squarespace.com
DTSTAMP:20191015T200413Z
DTSTART:20200111T200000Z
DTEND:20200111T210000Z
SUMMARY:Women's Basketball Game (AWAY)
END:VEVENT
END:VCALENDAR
