BEGIN:VCALENDAR
VERSION:2.0
PRODID:-//Squarespace Inc/Squarespace 6//v6//EN
BEGIN:VEVENT
UID:5dbc86c5209f2051bce9e562@squarespace.com
DTSTAMP:20191101T192617Z
DTSTART:20200113T130000Z
DTEND:20200113T140000Z
SUMMARY:Classes Begin
END:VEVENT
END:VCALENDAR
