BEGIN:VCALENDAR
VERSION:2.0
PRODID:-//Squarespace Inc/Squarespace 6//v6//EN
BEGIN:VEVENT
UID:5da60cec454f4070ba5165f9@squarespace.com
DTSTAMP:20191015T181704Z
DTSTART:20200117T003000Z
DTEND:20200117T013000Z
SUMMARY:Men's Basketball Game (HOME)
END:VEVENT
END:VCALENDAR
