BEGIN:VCALENDAR
VERSION:2.0
PRODID:-//Squarespace Inc/Squarespace 6//v6//EN
BEGIN:VEVENT
UID:5da6264593569927fe6bea74@squarespace.com
DTSTAMP:20191015T200443Z
DTSTART:20200116T223000Z
DTEND:20200116T233000Z
SUMMARY:Women's Basketball Game (HOME)
END:VEVENT
END:VCALENDAR
