BEGIN:VCALENDAR
VERSION:2.0
PRODID:-//Squarespace Inc/Squarespace 6//v6//EN
BEGIN:VEVENT
UID:5e220764f4bbdd28f63eb268@squarespace.com
DTSTAMP:20200117T191414Z
DTSTART:20200117T180000Z
DTEND:20200117T190000Z
SUMMARY:Last Day to Apply for Leave of Absence
END:VEVENT
END:VCALENDAR
