BEGIN:VCALENDAR
VERSION:2.0
PRODID:-//Squarespace Inc/Squarespace 6//v6//EN
BEGIN:VEVENT
UID:5e1e06cb962a0c31d7aa370e@squarespace.com
DTSTAMP:20200114T182248Z
DTSTART:20200117T153000Z
DTEND:20200117T163000Z
SUMMARY:TAC-O-BOUT 2nd Semester Mixer
END:VEVENT
END:VCALENDAR
