BEGIN:VCALENDAR
VERSION:2.0
PRODID:-//Squarespace Inc/Squarespace 6//v6//EN
BEGIN:VEVENT
UID:5da60d28f716f8795b4cd959@squarespace.com
DTSTAMP:20191015T181738Z
DTSTART:20200118T200000Z
DTEND:20200118T210000Z
SUMMARY:Men's Basketball Game (HOME)
END:VEVENT
END:VCALENDAR
