BEGIN:VCALENDAR
VERSION:2.0
PRODID:-//Squarespace Inc/Squarespace 6//v6//EN
BEGIN:VEVENT
UID:5da62662212fb55bcb170c5b@squarespace.com
DTSTAMP:20191015T200509Z
DTSTART:20200118T180000Z
DTEND:20200118T190000Z
SUMMARY:Women's Basketball Game (HOME)
END:VEVENT
END:VCALENDAR
