BEGIN:VCALENDAR
VERSION:2.0
PRODID:-//Squarespace Inc/Squarespace 6//v6//EN
BEGIN:VEVENT
UID:5da60c26b047230705a581de@squarespace.com
DTSTAMP:20191015T182710Z
DTSTART:20200103T003000Z
DTEND:20200103T013000Z
SUMMARY:Men's Basketball Game (HOME)
END:VEVENT
END:VCALENDAR
