BEGIN:VCALENDAR
VERSION:2.0
PRODID:-//Squarespace Inc/Squarespace 6//v6//EN
BEGIN:VEVENT
UID:5da625a36231022a346de874@squarespace.com
DTSTAMP:20191015T200201Z
DTSTART:20200102T223000Z
DTEND:20200102T233000Z
SUMMARY:Women's Basketball Game (HOME)
END:VEVENT
END:VCALENDAR
