BEGIN:VCALENDAR
VERSION:2.0
PRODID:-//Squarespace Inc/Squarespace 6//v6//EN
BEGIN:VEVENT
UID:5e22080e0cba0102f88c7507@squarespace.com
DTSTAMP:20200117T191641Z
DTSTART:20200120T130000Z
DTEND:20200120T140000Z
SUMMARY:Last Day To Initiate A Written Grade Appeal For A Course Taken Duri
 ng Fall Semester
END:VEVENT
END:VCALENDAR
