BEGIN:VCALENDAR
VERSION:2.0
PRODID:-//Squarespace Inc/Squarespace 6//v6//EN
BEGIN:VEVENT
UID:5da60d497aadb3023c5f57f6@squarespace.com
DTSTAMP:20191015T181817Z
DTSTART:20200123T223000Z
DTEND:20200123T233000Z
SUMMARY:Men's Basketball Game (AWAY)
END:VEVENT
END:VCALENDAR
