BEGIN:VCALENDAR
VERSION:2.0
PRODID:-//Squarespace Inc/Squarespace 6//v6//EN
BEGIN:VEVENT
UID:5da6267caaca7850a9f94b61@squarespace.com
DTSTAMP:20191015T200536Z
DTSTART:20200123T223000Z
DTEND:20200123T233000Z
SUMMARY:Women's Basketball Game (AWAY)
END:VEVENT
END:VCALENDAR
