BEGIN:VCALENDAR
VERSION:2.0
PRODID:-//Squarespace Inc/Squarespace 6//v6//EN
BEGIN:VEVENT
UID:5e2207ca88db8a28fedc1250@squarespace.com
DTSTAMP:20200117T191606Z
DTSTART:20200124T130000Z
DTEND:20200124T140000Z
SUMMARY:Deadline to Apply for Spring Graduation
END:VEVENT
END:VCALENDAR
