BEGIN:VCALENDAR
VERSION:2.0
PRODID:-//Squarespace Inc/Squarespace 6//v6//EN
BEGIN:VEVENT
UID:5da6269815bfdf179a2a0269@squarespace.com
DTSTAMP:20191015T200611Z
DTSTART:20200125T223000Z
DTEND:20200125T233000Z
SUMMARY:Women's Basketball Game (AWAY)
END:VEVENT
END:VCALENDAR
