BEGIN:VCALENDAR
VERSION:2.0
PRODID:-//Squarespace Inc/Squarespace 6//v6//EN
BEGIN:VEVENT
UID:5da626ba15bfdf179a2a06b3@squarespace.com
DTSTAMP:20191015T200644Z
DTSTART:20200127T223000Z
DTEND:20200127T233000Z
SUMMARY:Women's Basketball Game (HOME)
END:VEVENT
END:VCALENDAR
