BEGIN:VCALENDAR
VERSION:2.0
PRODID:-//Squarespace Inc/Squarespace 6//v6//EN
BEGIN:VEVENT
UID:5da60d701c61342b82057d49@squarespace.com
DTSTAMP:20191015T181845Z
DTSTART:20200131T003000Z
DTEND:20200131T013000Z
SUMMARY:Men's Basketball Game (HOME)
END:VEVENT
END:VCALENDAR
