BEGIN:VCALENDAR
VERSION:2.0
PRODID:-//Squarespace Inc/Squarespace 6//v6//EN
BEGIN:VEVENT
UID:5e1e07038f22f026cd4e4e35@squarespace.com
DTSTAMP:20200114T182329Z
DTSTART:20200130T130000Z
DTEND:20200130T140000Z
SUMMARY:Social Club Member Registration
END:VEVENT
END:VCALENDAR
