BEGIN:VCALENDAR
VERSION:2.0
PRODID:-//Squarespace Inc/Squarespace 6//v6//EN
BEGIN:VEVENT
UID:5da626dbb942e26707061895@squarespace.com
DTSTAMP:20191015T200719Z
DTSTART:20200130T223000Z
DTEND:20200130T233000Z
SUMMARY:Women's Basketball Game (HOME)
END:VEVENT
END:VCALENDAR
