BEGIN:VCALENDAR
VERSION:2.0
PRODID:-//Squarespace Inc/Squarespace 6//v6//EN
BEGIN:VEVENT
UID:5da625c193569927fe6bda34@squarespace.com
DTSTAMP:20191015T200235Z
DTSTART:20200104T180000Z
DTEND:20200104T190000Z
SUMMARY:Women's Basketball Game (HOME)
END:VEVENT
END:VCALENDAR
