BEGIN:VCALENDAR
VERSION:2.0
PRODID:-//Squarespace Inc/Squarespace 6//v6//EN
BEGIN:VEVENT
UID:5e1351fe42d66e7ee61532e6@squarespace.com
DTSTAMP:20200106T152851Z
DTSTART:20200108T140000Z
DTEND:20200110T210000Z
SUMMARY:Faculty Workshop
END:VEVENT
END:VCALENDAR
