BEGIN:VCALENDAR
VERSION:2.0
PRODID:-//Squarespace Inc/Squarespace 6//v6//EN
BEGIN:VEVENT
UID:5da60c9d7aadb3023c5f42f2@squarespace.com
DTSTAMP:20191015T182719Z
DTSTART:20200110T014500Z
DTEND:20200110T024500Z
SUMMARY:Men's Basketball Game (AWAY)
END:VEVENT
END:VCALENDAR
