BEGIN:VCALENDAR
VERSION:2.0
PRODID:-//Squarespace Inc/Squarespace 6//v6//EN
BEGIN:VEVENT
UID:5da625e36231022a346df16f@squarespace.com
DTSTAMP:20191015T200314Z
DTSTART:20200109T233000Z
DTEND:20200110T003000Z
SUMMARY:Women's Basketball Game (AWAY)
END:VEVENT
END:VCALENDAR
