BEGIN:VCALENDAR
VERSION:2.0
PRODID:-//Squarespace Inc/Squarespace 6//v6//EN
BEGIN:VEVENT
UID:5f720f392c73f53d2834ecc1@squarespace.com
DTSTAMP:20200928T164154Z
DTSTART:20201002T220000Z
DTEND:20201002T220000Z
SUMMARY:Bowling at Emerson Lanes
END:VEVENT
END:VCALENDAR
