BEGIN:VCALENDAR
VERSION:2.0
PRODID:-//Squarespace Inc/Squarespace 6//v6//EN
BEGIN:VEVENT
UID:5f7778d37ac6bc2e08fc039c@squarespace.com
DTSTAMP:20201002T190112Z
DTSTART:20201012T193000Z
DTEND:20201012T203000Z
SUMMARY:Men's Golf at Cedarville Invitational 
END:VEVENT
END:VCALENDAR
