BEGIN:VCALENDAR
VERSION:2.0
PRODID:-//Squarespace Inc/Squarespace 6//v6//EN
BEGIN:VEVENT
UID:5f7b39e28bdae37b13ff04fb@squarespace.com
DTSTAMP:20201005T152222Z
DTSTART:20201015T210000Z
DTEND:20201015T230000Z
SUMMARY:Roller Skating Party at Skate Country!
END:VEVENT
END:VCALENDAR
