BEGIN:VCALENDAR
VERSION:2.0
PRODID:-//Squarespace Inc/Squarespace 6//v6//EN
BEGIN:VEVENT
UID:5f7779dbd32a2e4c5d5800b1@squarespace.com
DTSTAMP:20201002T190540Z
DTSTART:20201018T193000Z
DTEND:20201020T203000Z
SUMMARY:Women's Golf at Music City Invite 
END:VEVENT
END:VCALENDAR
