BEGIN:VCALENDAR
VERSION:2.0
PRODID:-//Squarespace Inc/Squarespace 6//v6//EN
BEGIN:VEVENT
UID:5f777a0ddb18411e4fe5a6e3@squarespace.com
DTSTAMP:20201002T190709Z
DTSTART:20201024T193000Z
DTEND:20201024T203000Z
SUMMARY:Men's and Women's Cross Country at the Great Midwest Athletic Confe
 rence Championship 
END:VEVENT
END:VCALENDAR
