BEGIN:VCALENDAR
VERSION:2.0
PRODID:-//Squarespace Inc/Squarespace 6//v6//EN
BEGIN:VEVENT
UID:5f871807c6e4e823aa709f24@squarespace.com
DTSTAMP:20201014T152625Z
DTSTART:20201024T140000Z
DTEND:20201024T200000Z
SUMMARY:Thrift Shopping!
END:VEVENT
END:VCALENDAR
