BEGIN:VCALENDAR
VERSION:2.0
PRODID:-//Squarespace Inc/Squarespace 6//v6//EN
BEGIN:VEVENT
UID:5f92e15ff9acf141d749fba6@squarespace.com
DTSTAMP:20201023T135922Z
DTSTART:20201026T120000Z
DTEND:20201026T130000Z
SUMMARY:Spring Registration Begins 
END:VEVENT
END:VCALENDAR
