BEGIN:VCALENDAR
VERSION:2.0
PRODID:-//Squarespace Inc/Squarespace 6//v6//EN
BEGIN:VEVENT
UID:5f72103ccbc417526dbe1b84@squarespace.com
DTSTAMP:20200928T163413Z
DTSTART:20201029T210000Z
DTEND:20201029T220000Z
SUMMARY:Costume Party at the Student Center! 
END:VEVENT
END:VCALENDAR
