BEGIN:VCALENDAR
VERSION:2.0
PRODID:-//Squarespace Inc/Squarespace 6//v6//EN
BEGIN:VEVENT
UID:5f92e1c4b70edd414d1a4319@squarespace.com
DTSTAMP:20201023T140006Z
DTSTART:20201030T170000Z
DTEND:20201030T200000Z
SUMMARY:Spring Registration Event
END:VEVENT
END:VCALENDAR
