BEGIN:VCALENDAR
VERSION:2.0
PRODID:-//Squarespace Inc/Squarespace 6//v6//EN
BEGIN:VEVENT
UID:5f7777dae604ea01d3ad697a@squarespace.com
DTSTAMP:20201002T185757Z
DTSTART:20201004T190000Z
DTEND:20201006T200000Z
SUMMARY:Men's Golf at Kyle Ryman Memorial
END:VEVENT
END:VCALENDAR
