BEGIN:VCALENDAR
VERSION:2.0
PRODID:-//Squarespace Inc/Squarespace 6//v6//EN
BEGIN:VEVENT
UID:5f720fe4a8b8c04caaaa0c21@squarespace.com
DTSTAMP:20200928T163236Z
DTSTART:20201006T200000Z
DTEND:20201006T210000Z
SUMMARY:Fall Fest 2020!
END:VEVENT
END:VCALENDAR
