BEGIN:VCALENDAR
VERSION:2.0
PRODID:-//Squarespace Inc/Squarespace 6//v6//EN
BEGIN:VEVENT
UID:5f075de14286eb18b390e153@squarespace.com
DTSTAMP:20201002T171725Z
DTSTART:20201009T120000Z
DTEND:20201011T160000Z
SUMMARY:FALL BREAK
END:VEVENT
END:VCALENDAR
