BEGIN:VCALENDAR
VERSION:2.0
PRODID:-//Squarespace Inc/Squarespace 6//v6//EN
BEGIN:VEVENT
UID:5f77788bde32624ea03a4d9e@squarespace.com
DTSTAMP:20201002T190021Z
DTSTART:20201009T190000Z
DTEND:20201009T200000Z
SUMMARY:Men's and Women's Cross Country at Rio Grande
END:VEVENT
END:VCALENDAR
