BEGIN:VCALENDAR
VERSION:2.0
PRODID:-//Squarespace Inc/Squarespace 6//v6//EN
BEGIN:VEVENT
UID:5f777841de32624ea03a40cd@squarespace.com
DTSTAMP:20201002T185912Z
DTSTART:20201009T190000Z
DTEND:20201011T200000Z
SUMMARY:Women's Golf at Tiffin Fall Invite
END:VEVENT
END:VCALENDAR
