BEGIN:VCALENDAR
VERSION:2.0
PRODID:-//Squarespace Inc/Squarespace 6//v6//EN
BEGIN:VEVENT
UID:5f075ec6e6ce52639a35205f@squarespace.com
DTSTAMP:20200820T191235Z
DTSTART:20201119T130000Z
DTEND:20201121T210000Z
SUMMARY:FINALS
END:VEVENT
END:VCALENDAR
