BEGIN:VCALENDAR
VERSION:2.0
PRODID:-//Squarespace Inc/Squarespace 6//v6//EN
BEGIN:VEVENT
UID:5f075f1409e176540d8f6d8a@squarespace.com
DTSTAMP:20200709T181723Z
DTSTART:20201126T050000Z
DTEND:20201127T045900Z
SUMMARY:THANKSGIVING
END:VEVENT
END:VCALENDAR
